BEGIN:VCALENDAR
VERSION:2.0
PRODID:-//Officina Culturale I Porti della Teverina - ECPv6.15.8//NONSGML v1.0//EN
CALSCALE:GREGORIAN
METHOD:PUBLISH
X-WR-CALNAME:Officina Culturale I Porti della Teverina
X-ORIGINAL-URL:https://iportidellateverina.it
X-WR-CALDESC:Eventi per Officina Culturale I Porti della Teverina
REFRESH-INTERVAL;VALUE=DURATION:PT1H
X-Robots-Tag:noindex
X-PUBLISHED-TTL:PT1H
BEGIN:VTIMEZONE
TZID:Europe/Helsinki
BEGIN:DAYLIGHT
TZOFFSETFROM:+0200
TZOFFSETTO:+0300
TZNAME:EEST
DTSTART:20220327T010000
END:DAYLIGHT
BEGIN:STANDARD
TZOFFSETFROM:+0300
TZOFFSETTO:+0200
TZNAME:EET
DTSTART:20221030T010000
END:STANDARD
BEGIN:DAYLIGHT
TZOFFSETFROM:+0200
TZOFFSETTO:+0300
TZNAME:EEST
DTSTART:20230326T010000
END:DAYLIGHT
BEGIN:STANDARD
TZOFFSETFROM:+0300
TZOFFSETTO:+0200
TZNAME:EET
DTSTART:20231029T010000
END:STANDARD
BEGIN:DAYLIGHT
TZOFFSETFROM:+0200
TZOFFSETTO:+0300
TZNAME:EEST
DTSTART:20240331T010000
END:DAYLIGHT
BEGIN:STANDARD
TZOFFSETFROM:+0300
TZOFFSETTO:+0200
TZNAME:EET
DTSTART:20241027T010000
END:STANDARD
END:VTIMEZONE
BEGIN:VEVENT
DTSTART;TZID=Europe/Helsinki:20230223T180000
DTEND;TZID=Europe/Helsinki:20230223T193000
DTSTAMP:20260422T184051
CREATED:20230216T145453Z
LAST-MODIFIED:20230216T151525Z
UID:4277-1677175200-1677180600@iportidellateverina.it
SUMMARY:“Ballate sul mondo” sbarca a Orvieto
DESCRIPTION:Giovedì 23 febbraio ore 18\,00 presso Lo Scalo community hub in Via Sette Martiri\, 49 Orvieto Scalo\, Performance poetico/teatrale dal libro “Ballate sul mondo” di e con Gianni Abbate\, edito da Davide Ghaleb. Il libro è composto da 75 ballate poetico/teatrali per disegnare un mondo alla fine del mondo. Si tratta di versi concepiti e scritti in buona parte nel corso del secondo lockdown. Un affresco grottesco e feroce del genere umano in tutto il suo decadimento e imbarbarimento. “Ogni partenza diventa falsa partenza” – ci dice l’autore –  “Aspettare che qualcosa possa cambiare anche senza prendere posizione\, senza esporsi e quindi senza rischiare. La spietatezza\, l’immoralità del potere\, l’arroganza\, la meschinità\, ma anche l’impotenza di chi soggiace\, ne vengono fuori con qualche guizzo\, qui e là\, di voglia di cambiamento\, rivolta\, rivoluzione\, con volteggi acrobatici e doppi salti mortali\, per poi ricadere nella polvere. Nell’ultima ballata\, come a sigillo\, appare una speranza\, o forse un desiderio-sogno: ritrovare un nuovo inizio. Parole\, tante parole\, per denunciarne lo svuotamento del loro significato. Parole svilite e immiserite\, diventate solo involucri\, simulacri del nulla o che nascondono qualcos’altro. Quello che bisognerebbe fare è restituire alle parole dignità\, senso e vitalità. Da teatrante\, queste ballate le ho scritte vedendo i personaggi muoversi e sentendone la voce o le voci. In qualche modo queste ballate le ho vissute dentro di me\, fissandole poi sulla carta\, anzi\, su di un file come se fosse la mia pelle”. Un appuntamento da non mancare. L’ingresso è gratuito. Info 3471103270 – 3429500662.
URL:https://iportidellateverina.it/eventi/ballate-sul-mondo-sbarca-a-orvieto/
LOCATION:orvieto scalo\, Via Sette Martiri\, 49\, Orvieto\, Italia
ATTACH;FMTTYPE=image/jpeg:https://iportidellateverina.it/wp-content/uploads/2020/02/Abbateweb.jpg
END:VEVENT
END:VCALENDAR